BEGIN:VCALENDAR
VERSION:2.0
PRODID:-//Arpège - ECPv6.15.20//NONSGML v1.0//EN
CALSCALE:GREGORIAN
METHOD:PUBLISH
X-ORIGINAL-URL:https://www.arpege-asso.com
X-WR-CALDESC:Évènements pour Arpège
REFRESH-INTERVAL;VALUE=DURATION:PT1H
X-Robots-Tag:noindex
X-PUBLISHED-TTL:PT1H
BEGIN:VTIMEZONE
TZID:Europe/Paris
BEGIN:DAYLIGHT
TZOFFSETFROM:+0100
TZOFFSETTO:+0200
TZNAME:CEST
DTSTART:20220327T010000
END:DAYLIGHT
BEGIN:STANDARD
TZOFFSETFROM:+0200
TZOFFSETTO:+0100
TZNAME:CET
DTSTART:20221030T010000
END:STANDARD
BEGIN:DAYLIGHT
TZOFFSETFROM:+0100
TZOFFSETTO:+0200
TZNAME:CEST
DTSTART:20230326T010000
END:DAYLIGHT
BEGIN:STANDARD
TZOFFSETFROM:+0200
TZOFFSETTO:+0100
TZNAME:CET
DTSTART:20231029T010000
END:STANDARD
BEGIN:DAYLIGHT
TZOFFSETFROM:+0100
TZOFFSETTO:+0200
TZNAME:CEST
DTSTART:20240331T010000
END:DAYLIGHT
BEGIN:STANDARD
TZOFFSETFROM:+0200
TZOFFSETTO:+0100
TZNAME:CET
DTSTART:20241027T010000
END:STANDARD
BEGIN:DAYLIGHT
TZOFFSETFROM:+0100
TZOFFSETTO:+0200
TZNAME:CEST
DTSTART:20250330T010000
END:DAYLIGHT
BEGIN:STANDARD
TZOFFSETFROM:+0200
TZOFFSETTO:+0100
TZNAME:CET
DTSTART:20251026T010000
END:STANDARD
BEGIN:DAYLIGHT
TZOFFSETFROM:+0100
TZOFFSETTO:+0200
TZNAME:CEST
DTSTART:20260329T010000
END:DAYLIGHT
BEGIN:STANDARD
TZOFFSETFROM:+0200
TZOFFSETTO:+0100
TZNAME:CET
DTSTART:20261025T010000
END:STANDARD
BEGIN:DAYLIGHT
TZOFFSETFROM:+0100
TZOFFSETTO:+0200
TZNAME:CEST
DTSTART:20270328T010000
END:DAYLIGHT
BEGIN:STANDARD
TZOFFSETFROM:+0200
TZOFFSETTO:+0100
TZNAME:CET
DTSTART:20271031T010000
END:STANDARD
END:VTIMEZONE
BEGIN:VEVENT
DTSTART;TZID=Europe/Paris:20260321T150000
DTEND;TZID=Europe/Paris:20260321T170000
DTSTAMP:20260420T003319
CREATED:20260311T103457Z
LAST-MODIFIED:20260311T103457Z
UID:334-1774105200-1774112400@www.arpege-asso.com
SUMMARY:Concert Bibliothèque
DESCRIPTION:
URL:https://www.arpege-asso.com/evenement/concert-bibliotheque/
LOCATION:Bibliothèque municipale
END:VEVENT
BEGIN:VEVENT
DTSTART;TZID=Europe/Paris:20260207T150000
DTEND;TZID=Europe/Paris:20260207T170000
DTSTAMP:20260420T003319
CREATED:20260123T160207Z
LAST-MODIFIED:20260123T162937Z
UID:327-1770476400-1770483600@www.arpege-asso.com
SUMMARY:Heure de musique
DESCRIPTION:
URL:https://www.arpege-asso.com/evenement/heure-de-musique-8/
LOCATION:Salles du Grand Calvaire
END:VEVENT
BEGIN:VEVENT
DTSTART;TZID=Europe/Paris:20251206T170000
DTEND;TZID=Europe/Paris:20251206T190000
DTSTAMP:20260420T003319
CREATED:20251126T084911Z
LAST-MODIFIED:20251126T084911Z
UID:320-1765040400-1765047600@www.arpege-asso.com
SUMMARY:Concert du Téléthon
DESCRIPTION:
URL:https://www.arpege-asso.com/evenement/concert-du-telethon-2/
LOCATION:Salle du Rayon
END:VEVENT
BEGIN:VEVENT
DTSTART;TZID=Europe/Paris:20251129T170000
DTEND;TZID=Europe/Paris:20251129T190000
DTSTAMP:20260420T003319
CREATED:20251112T092727Z
LAST-MODIFIED:20251112T092727Z
UID:316-1764435600-1764442800@www.arpege-asso.com
SUMMARY:Heure de musique
DESCRIPTION:
URL:https://www.arpege-asso.com/evenement/heure-de-musique-7/
LOCATION:Salles du Grand Calvaire
END:VEVENT
BEGIN:VEVENT
DTSTART;TZID=Europe/Paris:20251108T140000
DTEND;TZID=Europe/Paris:20251108T170000
DTSTAMP:20260420T003319
CREATED:20251017T080424Z
LAST-MODIFIED:20251017T080650Z
UID:311-1762610400-1762621200@www.arpege-asso.com
SUMMARY:Atelier de la voix
DESCRIPTION:Samedi 8 Novembre – Samedi 10 Janvier – Samedi 7 Février\nProfesseur : Marie-Annick DEMONT \nJusqu’à 3 sessions de 3h chacune : de 14h à 17h \nObjectifs: Formation du chanteur amateur\, plaisir\, aisance vocale et corporelle\, écoute \nAxes de travail : \n\nLe chanteur et sa voix (détente corporelle\, justesse\, diction\, musicalité\, interprétation)\nLe chanteur et sa partition (techniques et astuces\, nuances\, expression)\nLe chanteur choriste (expériences vocales variées\, écoute\, partage\, équilibre des voix)\n\nA l’école de musique Arpège\, 9 rue du Grand Calvaire – Vigneux de Bretagne\nSalle Choizeau (1er étage)\nTarif par session : adhérents Arpège 15€ – non adhérents 20€\nInscription possible aux 3 sessions \nTéléchargez la fiche d’inscription
URL:https://www.arpege-asso.com/evenement/atelier-de-la-voix/
LOCATION:Salles du Grand Calvaire
END:VEVENT
BEGIN:VEVENT
DTSTART;VALUE=DATE:20251020
DTEND;VALUE=DATE:20251022
DTSTAMP:20260420T003319
CREATED:20251003T125443Z
LAST-MODIFIED:20251003T130227Z
UID:300-1760918400-1761091199@www.arpege-asso.com
SUMMARY:Stage Chorale enfants
DESCRIPTION:STAGE VACANCES de la Toussaint 2025\nDe 7 à 12 ans \nVotre enfant aime chanter ?\nCe stage lui permettra de goûter au plaisir de chanter ensemble\, de développer sa voix\,\nson oreille musicale et son sens artistique dans un travail reliant la voix aux jeux du\ncorps. \nChorale enfants – Professeur : Anne Vigneau\nLundi 20 et Mardi 21 Octobre – 14h à 15h30 – 6 à 15 participants\nDeux sessions d’une 1h30 \n\nEchauffement corporel et vocal\nVocalises amusantes pour développer la voix chantée\nEcouter son corps\nExplorer le plaisir de chanter ensemble\, à l’unisson et en canon\nMonter un petit répertoire de chansons\n\nA l’école de musique Arpège\, 9 rue du Grand Calvaire – Vigneux de Bretagne \nSalle Choizeau (1er étage) \nTarif : adhérents Arpège 15€ – non adhérents 20€ \nTéléchargez la fiche d’inscription \n 
URL:https://www.arpege-asso.com/evenement/stage-chorale-enfants/
LOCATION:Salles du Grand Calvaire
END:VEVENT
BEGIN:VEVENT
DTSTART;VALUE=DATE:20250915
DTEND;VALUE=DATE:20250916
DTSTAMP:20260420T003319
CREATED:20250509T075933Z
LAST-MODIFIED:20250509T075933Z
UID:289-1757894400-1757980799@www.arpege-asso.com
SUMMARY:Reprise des cours
DESCRIPTION:
URL:https://www.arpege-asso.com/evenement/reprise-des-cours/
LOCATION:Salles du Grand Calvaire
END:VEVENT
BEGIN:VEVENT
DTSTART;TZID=Europe/Paris:20250906T100000
DTEND;TZID=Europe/Paris:20250906T130000
DTSTAMP:20260420T003319
CREATED:20250707T095900Z
LAST-MODIFIED:20250707T095907Z
UID:292-1757152800-1757163600@www.arpege-asso.com
SUMMARY:Dernières inscriptions au Village des associations
DESCRIPTION:
URL:https://www.arpege-asso.com/evenement/dernieres-inscriptions-au-village-des-associations/
LOCATION:Complexe sportif
END:VEVENT
BEGIN:VEVENT
DTSTART;TZID=Europe/Paris:20250621T150000
DTEND;TZID=Europe/Paris:20250621T170000
DTSTAMP:20260420T003319
CREATED:20240913T151349Z
LAST-MODIFIED:20240913T151349Z
UID:173-1750518000-1750525200@www.arpege-asso.com
SUMMARY:Concert
DESCRIPTION:
URL:https://www.arpege-asso.com/evenement/concert-3/
LOCATION:La Roche-Maillard
END:VEVENT
BEGIN:VEVENT
DTSTART;VALUE=DATE:20250620
DTEND;VALUE=DATE:20250621
DTSTAMP:20260420T003319
CREATED:20240913T151325Z
LAST-MODIFIED:20240913T151325Z
UID:171-1750377600-1750463999@www.arpege-asso.com
SUMMARY:Fête de la musique
DESCRIPTION:
URL:https://www.arpege-asso.com/evenement/fete-de-la-musique-2/
LOCATION:Bourg de La Paquelais
END:VEVENT
BEGIN:VEVENT
DTSTART;TZID=Europe/Paris:20250614T153000
DTEND;TZID=Europe/Paris:20250614T173000
DTSTAMP:20260420T003319
CREATED:20240913T151232Z
LAST-MODIFIED:20240913T151232Z
UID:169-1749915000-1749922200@www.arpege-asso.com
SUMMARY:Concert
DESCRIPTION:
URL:https://www.arpege-asso.com/evenement/concert-2/
LOCATION:Ecomusée
END:VEVENT
BEGIN:VEVENT
DTSTART;VALUE=DATE:20250609
DTEND;VALUE=DATE:20250610
DTSTAMP:20260420T003319
CREATED:20250410T091728Z
LAST-MODIFIED:20250410T091728Z
UID:222-1749427200-1749513599@www.arpege-asso.com
SUMMARY:Ouverture des inscriptions 2025-2026 pour les nouveaux
DESCRIPTION:
URL:https://www.arpege-asso.com/evenement/ouverture-des-inscriptions-2025-2026-pour-les-nouveaux/
END:VEVENT
BEGIN:VEVENT
DTSTART;VALUE=DATE:20250526
DTEND;VALUE=DATE:20250527
DTSTAMP:20260420T003319
CREATED:20250410T091709Z
LAST-MODIFIED:20250410T091709Z
UID:220-1748217600-1748303999@www.arpege-asso.com
SUMMARY:Ouverture des inscriptions 2025-2026 pour les adhérents actuels
DESCRIPTION:
URL:https://www.arpege-asso.com/evenement/ouverture-des-inscriptions-2025-2026-pour-les-adherents-actuels/
END:VEVENT
BEGIN:VEVENT
DTSTART;TZID=Europe/Paris:20250524T200000
DTEND;TZID=Europe/Paris:20250524T230000
DTSTAMP:20260420T003319
CREATED:20250505T085004Z
LAST-MODIFIED:20250505T085202Z
UID:233-1748116800-1748127600@www.arpege-asso.com
SUMMARY:Concert de chorales à l’Église de Malville
DESCRIPTION:
URL:https://www.arpege-asso.com/evenement/concert-de-chorales-a-leglise-de-malville/
LOCATION:Eglise de Malville
END:VEVENT
BEGIN:VEVENT
DTSTART;TZID=Europe/Paris:20250517T153000
DTEND;TZID=Europe/Paris:20250517T163000
DTSTAMP:20260420T003319
CREATED:20240913T150843Z
LAST-MODIFIED:20250505T084850Z
UID:161-1747495800-1747499400@www.arpege-asso.com
SUMMARY:Heure de musique
DESCRIPTION:
URL:https://www.arpege-asso.com/evenement/heure-de-musique-6/
LOCATION:Gesvres et Cens (Grand Calvaire)
END:VEVENT
BEGIN:VEVENT
DTSTART;VALUE=DATE:20250512
DTEND;VALUE=DATE:20250518
DTSTAMP:20260420T003319
CREATED:20250410T091228Z
LAST-MODIFIED:20250410T091228Z
UID:215-1747008000-1747526399@www.arpege-asso.com
SUMMARY:Portes ouvertes
DESCRIPTION:L’école de musique Arpège organise des portes ouvertes la semaine du 12 au 17 Mai 2025.\nA cette occasion\, des ateliers ponctuels sont proposés par les professeurs.\nOuverts à tous (adhérents et extérieurs)\, vous pouvez vous y inscrire ou simplement venir les écouter.\nVous pourrez également rencontrer nos professeurs ainsi que le bureau qui assurera une permanence toute la semaine. \n\nAteliers où vous pouvez vous inscrire (contactez-nous)\nInstruments et ateliers que vous pouvez venir écouter
URL:https://www.arpege-asso.com/evenement/portes-ouvertes/
LOCATION:Salles du Grand Calvaire
END:VEVENT
BEGIN:VEVENT
DTSTART;TZID=Europe/Paris:20250322T153000
DTEND;TZID=Europe/Paris:20250322T173000
DTSTAMP:20260420T003319
CREATED:20240913T151155Z
LAST-MODIFIED:20250313T100913Z
UID:167-1742657400-1742664600@www.arpege-asso.com
SUMMARY:Concert
DESCRIPTION:
URL:https://www.arpege-asso.com/evenement/concert/
LOCATION:Bibliothèque municipale
END:VEVENT
BEGIN:VEVENT
DTSTART;TZID=Europe/Paris:20250308T170000
DTEND;TZID=Europe/Paris:20250308T180000
DTSTAMP:20260420T003319
CREATED:20240913T150814Z
LAST-MODIFIED:20240913T150814Z
UID:159-1741453200-1741456800@www.arpege-asso.com
SUMMARY:Heure de musique
DESCRIPTION:
URL:https://www.arpege-asso.com/evenement/heure-de-musique-5/
LOCATION:Gesvres et Cens (Grand Calvaire)
END:VEVENT
BEGIN:VEVENT
DTSTART;TZID=Europe/Paris:20250116T190000
DTEND;TZID=Europe/Paris:20250116T210000
DTSTAMP:20260420T003319
CREATED:20240913T151029Z
LAST-MODIFIED:20240913T151029Z
UID:165-1737054000-1737061200@www.arpege-asso.com
SUMMARY:Vœux du maire
DESCRIPTION:
URL:https://www.arpege-asso.com/evenement/voeux-du-maire/
END:VEVENT
BEGIN:VEVENT
DTSTART;VALUE=DATE:20241214
DTEND;VALUE=DATE:20241215
DTSTAMP:20260420T003319
CREATED:20240913T150944Z
LAST-MODIFIED:20241204T093231Z
UID:163-1734134400-1734220799@www.arpege-asso.com
SUMMARY:Téléthon / Marché de Noël
DESCRIPTION:
URL:https://www.arpege-asso.com/evenement/telethon-marche-de-noel/
END:VEVENT
BEGIN:VEVENT
DTSTART;TZID=Europe/Paris:20241130T170000
DTEND;TZID=Europe/Paris:20241130T180000
DTSTAMP:20260420T003319
CREATED:20240913T150730Z
LAST-MODIFIED:20241121T110023Z
UID:156-1732986000-1732989600@www.arpege-asso.com
SUMMARY:Heure de musique
DESCRIPTION:
URL:https://www.arpege-asso.com/evenement/heure-de-musique-4/
LOCATION:Gesvres et Cens (Grand Calvaire)
END:VEVENT
BEGIN:VEVENT
DTSTART;VALUE=DATE:20240916
DTEND;VALUE=DATE:20240917
DTSTAMP:20260420T003319
CREATED:20240913T150546Z
LAST-MODIFIED:20240913T150546Z
UID:154-1726444800-1726531199@www.arpege-asso.com
SUMMARY:Reprise des cours et ateliers
DESCRIPTION:
URL:https://www.arpege-asso.com/evenement/reprise-des-cours-et-ateliers/
LOCATION:Salles du Grand Calvaire
END:VEVENT
BEGIN:VEVENT
DTSTART;VALUE=DATE:20240621
DTEND;VALUE=DATE:20240622
DTSTAMP:20260420T003319
CREATED:20240326T102719Z
LAST-MODIFIED:20240618T072423Z
UID:106-1718928000-1719014399@www.arpege-asso.com
SUMMARY:Fête de la musique
DESCRIPTION:
URL:https://www.arpege-asso.com/evenement/fete-de-la-musique/
LOCATION:Bourg de La Paquelais
END:VEVENT
BEGIN:VEVENT
DTSTART;VALUE=DATE:20240615
DTEND;VALUE=DATE:20240616
DTSTAMP:20260420T003319
CREATED:20240513T083605Z
LAST-MODIFIED:20240513T083635Z
UID:124-1718409600-1718495999@www.arpege-asso.com
SUMMARY:Ouverture des inscriptions 2024-2025 pour les nouveaux
DESCRIPTION:
URL:https://www.arpege-asso.com/evenement/ouverture-des-inscriptions-2024-2025-pour-les-nouveaux/
END:VEVENT
BEGIN:VEVENT
DTSTART;VALUE=DATE:20240615
DTEND;VALUE=DATE:20240616
DTSTAMP:20260420T003319
CREATED:20240411T151332Z
LAST-MODIFIED:20240411T151400Z
UID:118-1718409600-1718495999@www.arpege-asso.com
SUMMARY:Concert (autour des vents)
DESCRIPTION:
URL:https://www.arpege-asso.com/evenement/concert-autour-des-vents/
LOCATION:La Roche-Maillard
END:VEVENT
BEGIN:VEVENT
DTSTART;VALUE=DATE:20240515
DTEND;VALUE=DATE:20240516
DTSTAMP:20260420T003319
CREATED:20240513T083538Z
LAST-MODIFIED:20240513T083641Z
UID:122-1715731200-1715817599@www.arpege-asso.com
SUMMARY:Ouverture des inscriptions 2024-2025 pour les adhérents
DESCRIPTION:
URL:https://www.arpege-asso.com/evenement/ouverture-des-inscriptions-2024-2025-pour-les-adherents/
END:VEVENT
BEGIN:VEVENT
DTSTART;TZID=Europe/Paris:20240414T150000
DTEND;TZID=Europe/Paris:20240414T180000
DTSTAMP:20260420T003319
CREATED:20240408T072624Z
LAST-MODIFIED:20240408T072649Z
UID:112-1713106800-1713117600@www.arpege-asso.com
SUMMARY:A tous Chœurs
DESCRIPTION:Concert de la Chorale de Missillac\, avec la participation des Chorales de Malville et Vigneux de Bretagne.
URL:https://www.arpege-asso.com/evenement/a-tous-choeurs/
LOCATION:Eglise de Missillac
END:VEVENT
BEGIN:VEVENT
DTSTART;TZID=Europe/Paris:20240413T150000
DTEND;TZID=Europe/Paris:20240413T160000
DTSTAMP:20260420T003319
CREATED:20231123T140726Z
LAST-MODIFIED:20240408T072424Z
UID:67-1713020400-1713024000@www.arpege-asso.com
SUMMARY:Heure de musique
DESCRIPTION:
URL:https://www.arpege-asso.com/evenement/heure-de-musique-3/
LOCATION:Salles du Grand Calvaire
END:VEVENT
BEGIN:VEVENT
DTSTART;TZID=Europe/Paris:20240323T150000
DTEND;TZID=Europe/Paris:20240323T170000
DTSTAMP:20260420T003319
CREATED:20231123T140507Z
LAST-MODIFIED:20240315T081415Z
UID:64-1711206000-1711213200@www.arpege-asso.com
SUMMARY:Harmonie des cordes
DESCRIPTION:Le samedi 23 mars 2024 à partir de 15h à l’écomusée\, embarquez pour un voyage musical autour de la harpe celtique\, du violon et des guitares ! \n \nDuos\n(Harpe: Isabelle – Violon : Richard)\nGreensleeves – Tradionnel anglais médiéval\n(Harpes: Zoé et Isaure)\nExtrait sonate en sib Majeur – Beethoven \nEnsemble instrumental\nCry Me A River – Jazz \nEVA\nLa mer – Charles Trenet\n(Avec ensemble instrumental)\nHallelujah – Léonard Cohen\nIvan\, Boris et moi – Marie Laforêt\nLe monde est stone – Michel Berger et Luc Plamondon\n(Guitare: Éric – Flûte : Isabelle – Harpe : Isaure) \nMusiques actuelles\n(Piano: Pacôme – Guitare: Xavier – Ba&erie : Titouan)\nLa marche turque – Mozart\nCompne d’un autre été – Yann Tiersen\nAnother brick in the wall – Pink Floyd \nMusique de chambre\n(Flûte: Isabelle – Guitare: Éric – Harpe: Isaure)\nChinar es – Komitas\nHov Arek – Komitas\nYerkink ampel e – Komitas\nCourante – Michael Praetorius
URL:https://www.arpege-asso.com/evenement/concert-de-printemps/
LOCATION:Ecomusée
END:VEVENT
BEGIN:VEVENT
DTSTART;TZID=Europe/Paris:20231216T150000
DTEND;TZID=Europe/Paris:20231216T160000
DTSTAMP:20260420T003319
CREATED:20231123T135657Z
LAST-MODIFIED:20231123T140321Z
UID:59-1702738800-1702742400@www.arpege-asso.com
SUMMARY:Heure de musique
DESCRIPTION:
URL:https://www.arpege-asso.com/evenement/heure-de-musique/
LOCATION:Salles du Grand Calvaire
END:VEVENT
END:VCALENDAR